Workbook

Sheet Project Identification
A1: FUNDING REQUEST FROM EXPERIMENT TO PPGP
A2: FINANCIAL YEARS 2015/16 TO 2019/20
A5: Project Name | B5: CMS
A7: UK Spokesperson | B7: Professor G Hall
A8: e-mail address | B8: g.hall@imperial.ac.uk

Sheet M&O Costs
A1: M&O Cost Breakdown
A3: Project Name | B3: CMS
A4: UK Spokesperson | B4: Professor G Hall
A5: e-mail address | B5: g.hall@imperial.ac.uk
B7: Provisional allocation
A8: Item (£k) | B8: 2015/2016 | C8: 2015/2016 | D8: 2016/17 | E8: 2017/18 | F8: 2018/19 | G8: 2019/20
A10: 'Category B' M&O costs (CERN) | B10: 116 | C10: 120 | D10: 120 | E10: 112 | F10: 112 | G10: 112
A11: Other costs | B11: 20 | C11: 20 | D11: 20 | E11: 20 | F11: 20 | G11: 20
A14: TOTAL M&O | B14: 146.3 | C14: =SUM(C9:C13) -> 140 | D14: =SUM(D9:D13) -> 140 | E14: =SUM(E9:E13) -> 132 | F14: =SUM(F9:F13) -> 132 | G14: =SUM(G9:G13) -> 132

Sheet TD Staff Request
A1: STFC Staff
A3: Project Name | B3: CMS
A4: UK Spokesperson | B4: Professor G Hall
A5: e-mail address | B5: g.hall@imperial.ac.uk
B8: Provisional allocation
A9: FTE Staff Years of effort | B9: 2015/2016 | C9: 2015/2016 | D9: 2016/17 | E9: 2017/18 | F9: 2018/19 | G9: 2019/20
A10: TD Engineer Effort | B10: 0.9 | C10: 0.5 | D10: 0.5 | E10: 0.5 | F10: 0.5 | G10: 0.5
A11: Justification | B11: Firmware support for Tracker FEDs, and diagnosis of hardware faults. Maintenance of EE HV system. Engineering support for EE and activities during shutdowns. | C11: Firmware support for Tracker FEDs, and diagnosis of hardware faults. Maintenance of EE HV system. Engineering support for EE and activities during shutdowns. | D11: Firmware support for Tracker FEDs, and diagnosis of hardware faults. Maintenance of EE HV system. Engineering support for EE and activities during shutdowns. | E11: Firmware support for Tracker FEDs, and diagnosis of hardware faults. Maintenance of EE HV system. Engineering support for EE and activities during shutdowns. | F11: Firmware support for Tracker FEDs, and diagnosis of hardware faults. Maintenance of EE HV system. Engineering support for EE and activities during shutdowns. | G11: Firmware support for Tracker FEDs, and diagnosis of hardware faults. Maintenance of EE HV system. Engineering support for EE and activities during shutdowns.
A12: TD Technician Effort | B12: 0.2 | C12: 0.5 | D12: 0.5 | E12: 0.5 | F12: 0.5 | G12: 0.5
A13: Justification | B13: Repairs to Tracker FEDs. Support for ECAL maintenance. | C13: Repairs to Tracker FEDs. Support for ECAL maintenance. | D13: Repairs to Tracker FEDs. Support for ECAL maintenance. | E13: Repairs to Tracker FEDs. Support for ECAL maintenance. | F13: Repairs to Tracker FEDs. Support for ECAL maintenance. | G13: Repairs to Tracker FEDs. Support for ECAL maintenance.
A14: Other (specify)
A15: Justification
A16: TOTAL (£k) | B16: 117.4 | C16: 102.5 | D16: 102.5 | E16: 102.5 | F16: 102.5 | G16: 102.5

Sheet Travel 2015-16
A1: Travel 2015-16
A3: Project Name | B3: CMS
A4: UK Spokesperson | B4: Professor G Hall
A5: e-mail address | B5: g.hall@imperial.ac.uk
A7: (All figures are for FY)
A8: Short Term Travel Abroad 2015-16 | B8: No. of Visits | C8: Average Length of Visits (days) | D8: Total Cost (£k)
A9: Destination
A10: Provisional allocation from the 2012 CG outcome (inc LTA) | D10: 240.5
A11: CERN | B11: 65 | C11: 3 | D11: =B11*(0.25+0.11*C11) -> 37.7
A12: CERN | B12: 55 | C12: 4 | D12: =B12*(0.25+0.11*C12) -> 37.95
A13: CERN | B13: 6 | C13: 10 | D13: =B13*(0.25+0.11*C13) -> 8.1
A14: CERN | B14: 2 | C14: 15 | D14: =B14*(0.25+0.11*C14) -> 3.8
A15: CERN | B15: 0 | C15: 90 | D15: =B15*(0.25+0.11*C15) -> 0
A16: UK (from CERN) | B16: 50 | C16: 3 | D16: =B16*(0.2+0.1*C16) -> 25
A17: Elsewhere (Europe) | B17: 10 | C17: 4 | D17: =B17*(0.25+0.15*C17) -> 8.5
A18: Elsewhere (Foreign) | B18: 8 | C18: 5 | D18: =B18*(0.7+0.15*C18) -> 11.6
A19: Elsewhere (Foreign) | B19: 1 | C19: 7 | D19: =B19*(0.7+0.2*C19) -> 2.1
A22: Total | B22: =SUM(B10:B21) -> 197 | D22: =SUM(D11:D21) -> 134.75
A24: Average cost per short-term visit abroad (£k) | C24: =D22/B22 -> 0.68401015
A26: Short Term Travel in UK 2015-16 | B26: No. of | C26: Total Cost
B27: Visits | C27: (£k)
B28: 100 | C28: 18
A30: Long Term Travel 2015-16 (>3 months) | B30: Start Date | C30: Duration | D30: Cost in FY
A31: Name and Institute | D31: (£k)
A32: Buchmueller: Imperial College | B32: 42095 | C32: 12 mo | D32: 2.6
A33: Tapper: Imperial College | B33: 42095 | C33: 12 mo | D33: 12
A34: Seez: Imperial College | B34: 42095 | C34: 12 mo | D34: 2.6
A35: Nikitenko: Imperial College | B35: 42095 | C35: 12 mo | D35: 12
A36: Fulcher: Imperial College | B36: 42095 | C36: 12 mo | D36: 12.6
A37: Magnan: Imperial College | B37: 42095 | C37: 12 mo | D37: 10.6
A38: Iles: Imperial College | B38: 42095 | C38: 12 mo | D38: 2.6
A39: Bainbridge: Imperial College | B39: 42095 | C39: 12 mo | D39: 16
A40: Casasso: Imperial College | B40: 42278 | C40: 6 mo | D40: 6.3
A41: Cockerill: RAL PPD | B41: 42095 | C41: 12 mo | D41: 2.6
A42: Bell: RAL PPD | B42: 42095 | C42: 12 mo | D42: 2
A43: Harper: RAL PPD | B43: 42095 | C43: 12 mo | D43: 11.4
... A47: Sakuma: Bristol | B47: 42095 | C47: 12 mo | D47: 18.2
A49: Total Cost | D49: =SUM(D32:D48) -> 139.3

Sheet Travel 2016-17
A1: Travel 2016-17 | C1: (Provisional Estimate)
A3: Project Name | B3: CMS
A4: UK Spokesperson | B4: Professor G Hall
A5: e-mail address | B5: g.hall@imperial.ac.uk
A7: Short Term Travel Abroad 2016-17 | B7: No. of Visits | C7: Average Length of Visits (days) | D7: Total Cost (£k)
A8: Destination
A9: CERN | B9: 65 | C9: 3 | D9: =B9*(0.25+0.11*C9) -> 37.7
A10: CERN | B10: 55 | C10: 4 | D10: =B10*(0.25+0.11*C10) -> 37.95
A11: CERN | B11: 6 | C11: 10 | D11: =B11*(0.25+0.11*C11) -> 8.1
A12: CERN | B12: 2 | C12: 15 | D12: =B12*(0.25+0.11*C12) -> 3.8
A13: CERN | B13: 0 | C13: 90 | D13: =B13*(0.25+0.11*C13) -> 0
A14: UK (from CERN) | B14: 50 | C14: 3 | D14: =B14*(0.2+0.1*C14) -> 25
A15: Elsewhere (Europe) | B15: 10 | C15: 4 | D15: =B15*(0.25+0.15*C15) -> 8.5
A16: Elsewhere (Foreign) | B16: 6 | C16: 5 | D16: =B16*(0.7+0.15*C16) -> 8.7
A17: Elsewhere (Foreign) | B17: 1 | C17: 7 | D17: =B17*(0.7+0.2*C17) -> 2.1
A20: Total | B20: =SUM(B9:B19) -> 195 | D20: =SUM(D9:D18) -> 131.85
A22: Average cost per short-term visit abroad (£k) | C22: =D20/B20 -> 0.67615385
A24: Short Term Travel in UK 2016-17 | B24: No. of Visits | C24: Total Cost
C25: (£k)
B26: 100 | C26: 18
A28: Long Term Travel 2016-17 (>3 months) | B28: Start Date | C28: Duration | D28: Cost in FY
A29: Name and Institute | D29: (£k)
A30: Buchmueller: Imperial College | B30: 42461 | C30: 12 mo | D30: 2.6
A31: Tapper: Imperial College | B31: 42461 | C31: 6 mo | D31: 6
A32: Seez: Imperial College | B32: 42461 | C32: 12 mo | D32: 2.6
A33: Nikitenko: Imperial College | B33: 42461 | C33: 12 mo | D33: 12
A34: Fulcher: Imperial College | B34: 42461 | C34: 12 mo | D34: 12.6
A35: Magnan: Imperial College | B35: 42461 | C35: 12 mo | D35: 10.6
A36: Iles: Imperial College | B36: 42461 | C36: 12 mo | D36: 2.6
A37: RA Imperial College | B37: 42461 | C37: 9 mo | D37: 12.8
B38: 42644
A39: Cockerill: RAL PPD | B39: 42461 | C39: 12 mo | D39: 2.6
A40: Bell: RAL PPD | B40: 42461 | C40: 12 mo | D40: 2
A41: Harper: RAL PPD | B41: 42461 | C41: 12 mo | D41: 11.4
A42: Petyt: RAL PPD | B42: 42461 | C42: 12 mo | D42: 14
B43: 42461
A44: Paramesvaran: Bristol | B44: 42461 | C44: 12 mo | D44: 12
A45: RA: Bristol | B45: 42461 | C45: 12 mo | D45: 12.9
A48: Total Cost | D48: =SUM(D30:D47) -> 116.7

Sheet Travel 2017-18
A1: Travel 2017-18 | C1: (Provisional Estimate)
A3: Project Name | B3: CMS
A4: UK Spokesperson | B4: Professor G Hall
A5: e-mail address | B5: g.hall@imperial.ac.uk
A7: Short Term Travel Abroad 2017-18 | B7: No. of Visits | C7: Average Length of Visits (days) | D7: Total Cost (£k)
A8: Destination
A9: CERN | B9: 60 | C9: 3 | D9: =B9*(0.25+0.11*C9) -> 34.8
A10: CERN | B10: 50 | C10: 4 | D10: =B10*(0.25+0.11*C10) -> 34.5
A11: CERN | B11: 2 | C11: 10 | D11: =B11*(0.25+0.11*C11) -> 2.7
A12: CERN | B12: 1 | C12: 15 | D12: =B12*(0.25+0.11*C12) -> 1.9
A13: CERN | B13: 0 | C13: 90 | D13: =B13*(0.25+0.11*C13) -> 0
A14: UK (from CERN) | B14: 50 | C14: 3 | D14: =B14*(0.2+0.1*C14) -> 25
A15: Elsewhere (Europe) | B15: 10 | C15: 4 | D15: =B15*(0.25+0.15*C15) -> 8.5
A16: Elsewhere (Foreign) | B16: 6 | C16: 5 | D16: =B16*(0.7+0.15*C16) -> 8.7
A17: Elsewhere (Foreign) | B17: 1 | C17: 7 | D17: =B17*(0.7+0.2*C17) -> 2.1
A20: Total | B20: =SUM(B9:B19) -> 180 | D20: =SUM(D9:D19) -> 118.2
A22: Average cost per short-term visit abroad (£k) | C22: =D20/B20 -> 0.65666667
A24: Short Term Travel in UK 2017-18 | B24: No. of Visits | C24: Total Cost
C25: (£k)
B26: 100 | C26: 18
A28: Long Term Travel 2017-18 (>3 months) | B28: Start Date | C28: Duration | D28: Cost in FY
A29: Name and Institute | D29: (£k)
A30: Buchmueller: Imperial College | B30: 42826 | C30: 12 mo | D30: 2.6
A32: Seez: Imperial College | B32: 42826 | C32: 12 mo | D32: 2.6
A33: Nikitenko: Imperial College | B33: 42826 | C33: 12 mo | D33: 12
A34: Fulcher: Imperial College | B34: 42826 | C34: 12 mo | D34: 12.6
A35: Magnan: Imperial College | B35: 42826 | C35: 12 mo | D35: 10.6
A36: Iles: Imperial College | B36: 42826 | C36: 12 mo | D36: 2.6
A37: RA Imperial College | B37: 42826 | C37: 9 mo | D37: 12.8
A39: Cockerill: RAL PPD | B39: 42826 | C39: 12 mo | D39: 2.6
A40: Bell: RAL PPD | B40: 42826 | C40: 12 mo | D40: 2
A41: Harper: RAL PPD | B41: 42826 | C41: 12 mo | D41: 11.4
A42: Petyt: RAL PPD | B42: 42826 | C42: 12 mo | D42: 14
A44: Paramesvaran: Bristol | B44: 42826 | C44: 12 mo | D44: 12
A45: RA: Bristol | B45: 42826 | C45: 12 mo | D45: 12.9
A49: Total Cost | D49: =SUM(D30:D48) -> 110.7

Sheet Travel 2018-19
A1: Travel 2018-19 | C1: (Provisional Estimate)
A3: Project Name | B3: CMS
A4: UK Spokesperson | B4: Professor G Hall
A5: e-mail address | B5: g.hall@imperial.ac.uk
A7: Short Term Travel Abroad 2018-19 | B7: No. of Visits | C7: Average Length of Visits (days) | D7: Total Cost (£k)
A8: Destination
A9: CERN | B9: 60 | C9: 3 | D9: =B9*(0.25+0.11*C9) -> 34.8
A10: CERN | B10: 50 | C10: 4 | D10: =B10*(0.25+0.11*C10) -> 34.5
A11: CERN | B11: 2 | C11: 10 | D11: =B11*(0.25+0.11*C11) -> 2.7
A12: CERN | B12: 0 | C12: 15 | D12: =B12*(0.25+0.11*C12) -> 0
A13: CERN | B13: 0 | C13: 90 | D13: =B13*(0.25+0.11*C13) -> 0
A14: UK (from CERN) | B14: 50 | C14: 3 | D14: =B14*(0.2+0.1*C14) -> 25
A15: Elsewhere (Europe) | B15: 10 | C15: 4 | D15: =B15*(0.25+0.15*C15) -> 8.5
A16: Elsewhere (Foreign) | B16: 6 | C16: 5 | D16: =B16*(0.7+0.15*C16) -> 8.7
A17: Elsewhere (Foreign) | B17: 1 | C17: 7 | D17: =B17*(0.7+0.2*C17) -> 2.1
A21: Total | B21: =SUM(B9:B20) -> 179 | D21: =SUM(D9:D20) -> 116.3
A23: Average cost per short-term visit abroad (£k) | C23: =D21/B21 -> 0.64972067
A25: Short Term Travel in UK 2018-19 | B25: No. of Visits | C25: Total Cost
C26: (£k)
B27: 100 | C27: 18
A29: Long Term Travel 2018-19 (>3 months) | B29: Start Date | C29: Duration | D29: Cost in FY
A30: Name and Institute | D30: (£k)
A31: Buchmueller: Imperial College | B31: 43191 | C31: 12 mo | D31: 2.6
A33: Seez: Imperial College | B33: 43191 | C33: 12 mo | D33: 2.6
A34: Nikitenko: Imperial College | B34: 43191 | C34: 12 mo | D34: 12
A35: Fulcher: Imperial College | B35: 43191 | C35: 12 mo | D35: 12.6
A36: RA Imperial College | B36: 43191 | C36: 12 mo | D36: 12.6
A37: Iles: Imperial College | B37: 43191 | C37: 12 mo | D37: 2.6
A38: RA Imperial College | B38: 43191 | C38: 9 mo | D38: 12.8
A40: Cockerill: RAL PPD | B40: 43191 | C40: 12 mo | D40: 2.6
A41: Bell: RAL PPD | B41: 43191 | C41: 12 mo | D41: 2
A42: Harper: RAL PPD | B42: 43191 | C42: 12 mo | D42: 11.4
A43: Petyt: RAL PPD | B43: 43191 | C43: 12 mo | D43: 14
A45: RA Bristol | B45: 43191 | C45: 12 mo | D45: 12
A46: RA: Bristol | B46: 43191 | C46: 12 mo | D46: 12.9
A49: Total Cost | D49: =SUM(D31:D48) -> 112.7

Sheet Travel 2019-20
A1: Travel 2019-20 | C1: (Provisional Estimate)
A3: Project Name | B3: CMS
A4: UK Spokesperson | B4: Professor G Hall
A5: e-mail address | B5: g.hall@imperial.ac.uk
A7: Short Term Travel Abroad 2019-20 | B7: No. of Visits | C7: Average Length of Visits (days) | D7: Total Cost (£k)
A8: Destination
A9: CERN | B9: 60 | C9: 3 | D9: =B9*(0.25+0.11*C9) -> 34.8
A10: CERN | B10: 50 | C10: 4 | D10: =B10*(0.25+0.11*C10) -> 34.5
A11: CERN | B11: 2 | C11: 10 | D11: =B11*(0.25+0.11*C11) -> 2.7
A12: CERN | B12: 0 | C12: 15 | D12: =B12*(0.25+0.11*C12) -> 0
A13: CERN | B13: 0 | C13: 90 | D13: =B13*(0.25+0.11*C13) -> 0
A14: UK (from CERN) | B14: 50 | C14: 3 | D14: =B14*(0.2+0.1*C14) -> 25
A15: Elsewhere (Europe) | B15: 10 | C15: 4 | D15: =B15*(0.25+0.15*C15) -> 8.5
A16: Elsewhere (Foreign) | B16: 6 | C16: 5 | D16: =B16*(0.7+0.15*C16) -> 8.7
A17: Elsewhere (Foreign) | B17: 1 | C17: 7 | D17: =B17*(0.7+0.2*C17) -> 2.1
A21: Total | B21: =SUM(B9:B20) -> 179 | D21: =SUM(D9:D20) -> 116.3
A23: Average cost per short-term visit abroad (£k) | C23: =D21/B21 -> 0.64972067
A25: Short Term Travel in UK 2019-20 | B25: No. of Visits | C25: Total Cost
C26: (£k)
B27: 100 | C27: 18
A29: Long Term Travel 2019-20 (>3 months) | B29: Start Date | C29: Duration | D29: Cost in FY
A30: Name and Institute | D30: (£k)
A31: Buchmueller: Imperial College | B31: 43556 | C31: 12 mo | D31: 2.6
A33: Seez: Imperial College | B33: 43556 | C33: 12 mo | D33: 2.6
A34: Nikitenko: Imperial College | B34: 43556 | C34: 12 mo | D34: 12
A35: Fulcher: Imperial College | B35: 43556 | C35: 12 mo | D35: 12.6
A36: RA Imperial College | B36: 43556 | C36: 12 mo | D36: 12.6
A37: Iles: Imperial College | B37: 43556 | C37: 12 mo | D37: 2.6
A38: RA Imperial College | B38: 43556 | C38: 9 mo | D38: 12.8
B39: 43739
A40: Cockerill: RAL PPD | B40: 43556 | C40: 12 mo | D40: 2.6
A41: Bell: RAL PPD | B41: 43556 | C41: 12 mo | D41: 2
A42: Harper: RAL PPD | B42: 43556 | C42: 12 mo | D42: 11.4
A43: Petyt: RAL PPD | B43: 43556 | C43: 12 mo | D43: 14
A45: RA Bristol | B45: 43556 | C45: 12 mo | D45: 12
A46: RA: Bristol | B46: 43556 | C46: 12 mo | D46: 12.9
A49: Total Cost | D49: =SUM(D31:D48) -> 112.7

Sheet Travellers
A1: Travellers
A3: Project Name | B3: CMS
A4: UK Spokesperson | B4: Professor G Hall
A5: e-mail address | B5: g.hall@imperial.ac.uk
A7: Names of travellers likely to travel on this budget (please tick or mark 'x' each FY individual likely to travel in)
A9: Surname | B9: Forename | C9: GSC | D9: Institute | E9: On LTA | F9: 2015-2016 | G9: 2016 - 2017 | H9: 2017 - 2018 | I9: 2018 - 2019 | J9: 2019 - 2020
C10: Category | E10: Yes or No
A13: Brooke | B13: James | C13: Ph | D13: Bristol | F13: x | G13: x | H13: x | I13: x | J13: x
A14: Cussans | B14: David | C14: AP | D14: Bristol | F14: x | G14: x | H14: x | I14: x | J14: x
A15: Flaecher | B15: Henning | C15: Ac | D15: Bristol | F15: x | G15: x | H15: x | I15: x | J15: x
A16: Goldstein | B16: Joel | C16: Ac | D16: Bristol | F16: x | G16: x | H16: x | I16: x | J16: x
A17: Grimes | B17: Mark | C17: Ph | D17: Bristol | E17: y | F17: x | G17: x | H17: x | I17: x | J17: x
A18: Heath | B18: Gregory | C18: Ac | D18: Bristol | F18: x | G18: x | H18: x | I18: x | J18: x
A19: Heath | B19: Helen | C19: Ac | D19: Bristol | F19: x | G19: x | H19: x | I19: x | J19: x
A20: Newbold | B20: David | C20: Ac | D20: Bristol | F20: x | G20: x | H20: x | I20: x | J20: x
A21: Paramesvaran | B21: Sudan | C21: Ph | D21: Bristol | E21: y | F21: x | G21: x | H21: x | I21: x | J21: x
A22: Sakuma | B22: ? | C22: Ph | D22: Bristol | E22: y | F22: x | G22: x | H22: x | I22: x | J22: x
A24: Cole | B24: Joanne | C24: Ac | D24: Brunel | F24: x | G24: x | H24: x | I24: x | J24: x
A25: Hobson | B25: Peter | C25: Ac | D25: Brunel | F25: x | G25: x | H25: x | I25: x | J25: x
A26: Khan | B26: Akram | C26: Ac | D26: Brunel | F26: x | G26: x | H26: x | I26: x | J26: x
A27: Kyberd | B27: Paul | C27: Ac | D27: Brunel | F27: x | G27: x | H27: x | I27: x | J27: x
A28: Leslie | B28: Dawn | C28: Ac | D28: Brunel | F28: x | G28: x | H28: x | I28: x | J28: x
A29: Lopes | B29: Raul | C29: PP | D29: Brunel | F29: x | G29: x | H29: x | I29: x | J29: x
A30: Mackay | B30: Kate | C30: Ph | D30: Brunel | F30: x | G30: x | H30: x | I30: x | J30: x
A31: Powell | B31: Roger | C31: Ac | D31: Brunel | F31: x | G31: x | H31: x | I31: x | J31: x
A32: Teodorescu | B32: Liliana | C32: Ac | D32: Brunel | F32: x | G32: x | H32: x | I32: x | J32: x
A33: Reid | B33: Ivan | C33: AP | D33: Brunel | F33: x | G33: x | H33: x | I33: x | J33: x
A35: Bainbridge | B35: Robert | C35: PP | D35: Imperial | E35: y | F35: x | G35: x | H35: x | I35: x | J35: x
A36: Buchmueller | B36: Oliver | C36: Ac | D36: Imperial | E36: y | F36: x | G36: x | H36: x | I36: x | J36: x
A37: Casasso | B37: Stefano | C37: PP | D37: Imperial | E37: y | F37: x | G37: x | H37: x | I37: x | J37: x
A38: Colling | B38: David | C38: Ac | D38: Imperial | F38: x | G38: x | H38: x | I38: x | J38: x
A39: Dauncey | B39: Paul | C39: Ac | D39: Imperial | F39: x | G39: x | H39: x | I39: x | J39: x
A40: Davies | B40: Gavin | C40: Ac | D40: Imperial | F40: x | G40: x | H40: x | I40: x | J40: x
A41: DellaNegra | B41: Michel | C41: Ac | D41: Imperial | F41: x | G41: x
A42: Fulcher | B42: Jonathan | C42: Ph | D42: Imperial | E42: y | F42: x | G42: x | H42: x | I42: x | J42: x
A43: Hall | B43: Geoffrey | C43: Ac | D43: Imperial | F43: x | G43: x | H43: x | I43: x | J43: x
A44: Iles | B44: Gregory | C44: E | D44: Imperial | E44: y | F44: x | G44: x | H44: x | I44: x | J44: x
A45: Karapostoli | B45: Georgia | C45: PP | D45: Imperial | F45: x | G45: x | H45: x | I45: x | J45: x
A46: Lane | B46: Rebecca | C46: PP | D46: Imperial | F46: x | G46: x | H46: x | I46: x | J46: x
A47: Lyons | B47: Louis | C47: Ac | D47: Imperial | F47: x | G47: x
A48: Magnan | B48: Anne-Marie | C48: PP | D48: Imperial | E48: y | F48: x | G48: x | H48: x | I48: x | J48: x
A49: Nash | B49: Jordan | C49: Ac | D49: Imperial | F49: x | G49: x | H49: x | I49: x | J49: x
A50: Nikitenko | B50: Alexander | C50: Ph | D50: Imperial | E50: y | F50: x | G50: x | H50: x | I50: x | J50: x
A51: Penning | B51: Bjoern | C51: PP | D51: Imperial | F51: x | G51: x | H51: x | I51: x | J51: x
A52: Raymond | B52: Mark | C52: AP | D52: Imperial | F52: x | G52: x | H52: x | I52: x | J52: x
A53: Richards | B53: Alexander | C53: PP | D53: Imperial | F53: x | G53: x | H53: x | I53: x | J53: x
A54: Rose | B54: Andrew | C54: E | D54: Imperial | F54: x | G54: x | H54: x | I54: x | J54: x
A55: Seez | B55: Christopher | C55: PP | D55: Imperial | E55: y | F55: x | G55: x | H55: x | I55: x | J55: x
A56: Tapper | B56: Alexander | C56: Ac | D56: Imperial | E56: y | F56: x | G56: x | H56: x | I56: x | J56: x
A57: Virdee | B57: Tejinder | C57: Ac | D57: Imperial | F57: x | G57: x | H57: x | I57: x | J57: x
A58: Zenz | B58: Seth | C58: PP | D58: Imperial | F58: x | G58: x | H58: x | I58: x | J58: x
A60: Bell | B60: Kenneth | C60: Ac | D60: PPD | E60: y | F60: x | G60: x | H60: x | I60: x | J60: x
A61: Belyaev | B61: Alexandre | C61: Ac | D61: PPD | F61: x | G61: x | H61: x | I61: x | J61: x
A62: Brew | B62: Christopher | C62: PP | D62: PPD | F62: x | G62: x | H62: x | I62: x | J62: x
A63: Brown | B63: Robert | C63: Ac | D63: PPD | F63: x | G63: x | H63: x | I63: x | J63: x
A64: Cockerill | B64: David | C64: Ac | D64: PPD | E64: y | F64: x | G64: x | H64: x | I64: x | J64: x
A65: Durkin | B65: Tim | C65: E | D65: PPD | F65: x | G65: x | H65: x | I65: x | J65: x
A66: Harder | B66: Kristian | C66: Ph | D66: PPD | F66: x | G66: x | H66: x | I66: x | J66: x
A67: Harper | B67: Sam | C67: Ph | D67: PPD | E67: y | F67: x | G67: x | H67: x | I67: x | J67: x
A68: Lahiff | B68: Andrew | C68: Ph | D68: PPD | F68: x | G68: x | H68: x | I68: x | J68: x
A69: Olaiya | B69: Emmanuel | C69: Ph | D69: PPD | F69: x | G69: x | H69: x | I69: x | J69: x
A70: Petyt | B70: David | C70: Ph | D70: PPD | E70: y | F70: x | G70: x | H70: x | I70: x | J70: x
A71: Sankey | B71: David | C71: E | D71: PPD | F71: x | G71: x | H71: x | I71: x | J71: x
A72: Shepherd-Themistocleous | B72: Claire | C72: Ac | D72: PPD | F72: x | G72: x | H72: x | I72: x | J72: x
A73: Thea | B73: Alessandro | C73: Ph | D73: PPD | E73: y | F73: x | G73: x | H73: x | I73: x | J73: x
A74: Tomalin | B74: Ian | C74: Ac | D74: PPD | F74: x | G74: x | H74: x | I74: x | J74: x
A75: Williams | B75: Tom | C75: Ph | D75: PPD | F75: x | G75: x | H75: x | I75: x | J75: x
A77: Brummitt | B77: Amanda | C77: E | D77: TD | F77: x | G77: x | H77: x | I77: x | J77: x
A78: Coughlan | B78: John | C78: E | D78: TD | F78: x | G78: x | H78: x | I78: x | J78: x
A79: Hill | B79: John | C79: E | D79: TD | F79: x | G79: x | H79: x | I79: x | J79: x
A80: Key-Charriere | B80: Michelle | C80: E | D80: TD | F80: x | G80: x | H80: x | I80: x | J80: x
A81: Prydderch | B81: Mark | C81: E | D81: TD | F81: x | G81: x | H81: x | I81: x | J81: x
A82: Siyad | B82: Mohammed | C82: E | D82: TD | F82: x | G82: x | H82: x | I82: x | J82: x
A83: Taghavi | B83: Saeed | C83: T | D83: TD | F83: x | G83: x | H83: x | I83: x | J83: x
A84: Torbet | B84: Martin | C84: E | D84: TD | F84: x | G84: x | H84: x | I84: x | J84: x

Sheet Summary of Requests
A1: Summary of Requests
A3: Project Name | B3: CMS
A4: UK Spokesperson | B4: Professor G Hall
A5: e-mail address | B5: g.hall@imperial.ac.uk
B7: Provisional allocation
A8: Request (£k) | B8: 2015/2016 | C8: 2015/2016 | D8: 2016/17 | E8: 2017/18 | F8: 2018/19 | G8: 2019/20
A9: Maintenance & Operating (M&O) Costs | B9: ='M&O Costs'!B14 -> 146.3 | C9: ='M&O Costs'!C14 -> 140 | D9: ='M&O Costs'!D14 -> 140 | E9: ='M&O Costs'!E14 -> 132 | F9: ='M&O Costs'!F14 -> 132 | G9: ='M&O Costs'!G14 -> 132
A10: Travel - Short Term (UK + Abroad) | B10: ='Travel 2015-16'!D10 -> 240.5 | C10: ='Travel 2015-16'!D22+'Travel 2015-16'!C28 -> 152.75 | D10: ='Travel 2016-17'!$D$20+'Travel 2016-17'!$C$26 -> 149.85 | E10: ='Travel 2017-18'!D20+'Travel 2017-18'!C26 -> 136.2 | F10: ='Travel 2018-19'!D21+'Travel 2018-19'!C27 -> 134.3 | G10: ='Travel 2019-20'!D21+'Travel 2019-20'!C27 -> 134.3
A11: Travel - Long Term | B11: 0 | C11: ='Travel 2015-16'!D49 -> 139.3 | D11: ='Travel 2016-17'!$D$48 -> 116.7 | E11: ='Travel 2017-18'!D49 -> 110.7 | F11: ='Travel 2018-19'!D49 -> 112.7 | G11: ='Travel 2018-19'!D49 -> 112.7
A12: TOTAL | B12: =SUM(B9:B11) -> 386.8 | C12: =SUM(C9:C11) -> 432.05 | D12: =SUM(D9:D11) -> 406.55 | E12: =SUM(E9:E11) -> 378.9 | F12: =SUM(F9:F11) -> 379 | G12: =SUM(G9:G11) -> 379
A13: Exchange Rate Element
A15: STFC EFFORT (SY)
A16: Engineer Effort | B16: 0.9 | C16: 0.5 | D16: 0.5 | E16: 0.5 | F16: 0.5 | G16: 0.5
A17: Technician Effort | B17: 0.2 | C17: 0.5 | D17: 0.5 | E17: 0.5 | F17: 0.5 | G17: 0.5
A18: Other (specify) | B18: 0 | C18: 0 | D18: 0 | E18: 0 | F18: 0 | G18: 0
A19: TOTAL | B19: =SUM(B16:B18) -> 1.1 | C19: =SUM(C16:C18) -> 1 | D19: =SUM(D16:D18) -> 1 | E19: =SUM(E16:E18) -> 1 | F19: =SUM(F16:F18) -> 1 | G19: =SUM(G16:G18) -> 1
A21: Estimated Cost of Requested RAL Effort | B21: =SUM(B16*B26)+(B17*B27)+(B18*B28) -> 0 | C21: =SUM(C16*C26)+(C17*C27)+(C18*C28) -> 88.205 | D21: =SUM(D16*D26)+(D17*D27)+(D18*D28) -> 89.97 | E21: =SUM(E16*E26)+(E17*E27)+(E18*E28) -> 92.22 | F21: =SUM(F16*F26)+(F17*F27)+(F18*F28) -> 94.525 | G21: =SUM(G16*G26)+(G17*G27)+(G18*G28) -> 96.89
A23: STFC Staff Costing Guide 2014 (Indicative Estimates to aid calculations)
A24: Please confirm actual costings with your TD/Other STFC department contact
C25: £k | D25: £k | E25: £k | F25: £k | G25: £k
A26: Cost of Engineer effort (TD) | C26: 98.74 | D26: 100.71 | E26: 103.23 | F26: 105.81 | G26: 108.46
A27: Cost of Technician effort (TD) | C27: 77.67 | D27: 79.23 | E27: 81.21 | F27: 83.24 | G27: 85.32
A28: Average of "other" staff - (Scientific Computing) | C28: 77.67 | D28: 79.23 | E28: 81.21 | F28: 83.24 | G28: 85.32

Sheet Outturn 2013-15
A1: Outturn Financial Years 2013-14 and 2014-15
A3: Project Name | B3: CMS
A4: UK Spokesperson | B4: Professor G Hall
A5: e-mail address | B5: g.hall@imperial.ac.uk
A7: FY 2013/14: Please give actual outturns
A8: FY 2014/15: Please give latest estimated outturn, extrapolated from actuals
A9: to end January 2015
A11: Outturn (£k) | B11: 2013/2014 | C11: 2014/15 Estimated
A12: Maintenance & Operating (M&O) Costs | B12: 49 | C12: 35
A13: Common Fund (M&O) Costs | B13: 115 | C13: 150
A14: Travel - Short Term (UK + Abroad) | B14: 153 | C14: 147
A15: Travel - Long Term | B15: 161 | C15: 163
A16: TOTAL | B16: =SUM(B12:B15) -> 478 | C16: =SUM(C12:C15) -> 495
A18: RAL EFFORT (SY)
A19: Engineer Effort | B19: 0.2 | C19: 0.2
A20: Technician Effort | B20: 0.25 | C20: 0.25
A21: Other (specify)
A22: TOTAL | B22: =SUM(B19:B21) -> 0.45 | C22: =SUM(C19:C21) -> 0.45
